BEGIN:VCALENDAR
VERSION:2.0
PRODID:-//eventon.com NONSGML v1.0//EN
CALSCALE:GREGORIAN
METHOD:PUBLISH
BEGIN:VEVENT
UID:69ea3ad00f055
DTSTAMP:20260423T152920Z
DTSTART:20230505
DTEND:20230506
LOCATION:
SUMMARY:Magic Lantern Innovation and Learning Lab (Bridgton\,  MA)
DESCRIPTION:Magic Lantern Innovation and Learning Lab (Bridgton\,  MA)\nhtt
 ps://chasingchildhooddoc.com/events/magic-lantern-innovation-and-learning-l
 ab-bridgton-ma/
URL:https://chasingchildhooddoc.com/events/magic-lantern-innovation-and-learning-lab-bridgton-ma/
END:VEVENT
END:VCALENDAR