BEGIN:VCALENDAR
VERSION:2.0
PRODID:-//eventon.com NONSGML v1.0//EN
CALSCALE:GREGORIAN
METHOD:PUBLISH
BEGIN:VEVENT
UID:69ea3ad09523f
DTSTAMP:20260423T152920Z
DTSTART:20230505
DTEND:20230506
LOCATION:
SUMMARY:Lester B Pearson Collegiate Institute (Scarborough\,  Ontario)
DESCRIPTION:Lester B Pearson Collegiate Institute (Scarborough\,  Ontario)\
 nhttps://chasingchildhooddoc.com/events/lester-b-pearson-collegiate-institu
 te-scarborough-ontario/
URL:https://chasingchildhooddoc.com/events/lester-b-pearson-collegiate-institute-scarborough-ontario/
END:VEVENT
END:VCALENDAR