BEGIN:VCALENDAR
VERSION:2.0
PRODID:-//eventon.com NONSGML v1.0//EN
CALSCALE:GREGORIAN
METHOD:PUBLISH
BEGIN:VEVENT
UID:69ea3acf15b50
DTSTAMP:20260423T152919Z
DTSTART:20230505
DTEND:20230506
LOCATION:
SUMMARY:Community Partnership of the Ozarks (Springfield\,  MO)
DESCRIPTION:Community Partnership of the Ozarks (Springfield\,  MO)\nhttps:
 //chasingchildhooddoc.com/events/community-partnership-of-the-ozarks-spring
 field-mo-2/
URL:https://chasingchildhooddoc.com/events/community-partnership-of-the-ozarks-springfield-mo-2/
END:VEVENT
END:VCALENDAR