BEGIN:VCALENDAR
VERSION:2.0
PRODID:-//eventon.com NONSGML v1.0//EN
CALSCALE:GREGORIAN
METHOD:PUBLISH
BEGIN:VEVENT
UID:69ea3ad0ea743
DTSTAMP:20260423T152920Z
DTSTART:20230505
DTEND:20230506
LOCATION:
SUMMARY:Central OR Community College (Bend\,  OR)
DESCRIPTION:Central OR Community College (Bend\,  OR)\nhttps://chasingchild
 hooddoc.com/events/central-or-community-college-bend-or/
URL:https://chasingchildhooddoc.com/events/central-or-community-college-bend-or/
END:VEVENT
END:VCALENDAR