BEGIN:VCALENDAR
VERSION:2.0
PRODID:-//eventon.com NONSGML v1.0//EN
CALSCALE:GREGORIAN
METHOD:PUBLISH
BEGIN:VEVENT
UID:69ea3aee150f5
DTSTAMP:20260423T152950Z
DTSTART:20230505
DTEND:20230506
LOCATION:
SUMMARY:Cinema Center (Fort Wayne\,  IN)
DESCRIPTION:Cinema Center (Fort Wayne\,  IN)\nhttps://chasingchildhooddoc.c
 om/events/cinema-center-fort-wayne-in/
URL:https://chasingchildhooddoc.com/events/cinema-center-fort-wayne-in/
END:VEVENT
END:VCALENDAR