BEGIN:VCALENDAR
VERSION:2.0
PRODID:-//eventon.com NONSGML v1.0//EN
CALSCALE:GREGORIAN
METHOD:PUBLISH
BEGIN:VEVENT
UID:69ea3aa611716
DTSTAMP:20260423T152838Z
DTSTART:20230505
DTEND:20230506
LOCATION:
SUMMARY:Bradley Union School District (Bradley\,  CA)
DESCRIPTION:Bradley Union School District (Bradley\,  CA)\nhttps://chasingc
 hildhooddoc.com/events/bradley-union-school-district-bradley-ca/
URL:https://chasingchildhooddoc.com/events/bradley-union-school-district-bradley-ca/
END:VEVENT
END:VCALENDAR