BEGIN:VCALENDAR
VERSION:2.0
PRODID:-//eventon.com NONSGML v1.0//EN
CALSCALE:GREGORIAN
METHOD:PUBLISH
BEGIN:VEVENT
UID:69ea3afbc72ec
DTSTAMP:20260423T153003Z
DTSTART:20230505
DTEND:20230506
LOCATION:
SUMMARY:Boise School District GATE Program (Boise\,  ID)
DESCRIPTION:Boise School District GATE Program (Boise\,  ID)\nhttps://chasi
 ngchildhooddoc.com/events/boise-school-district-gate-program-boise-id/
URL:https://chasingchildhooddoc.com/events/boise-school-district-gate-program-boise-id/
END:VEVENT
END:VCALENDAR