BEGIN:VCALENDAR
VERSION:2.0
PRODID:-//eventon.com NONSGML v1.0//EN
CALSCALE:GREGORIAN
METHOD:PUBLISH
BEGIN:VEVENT
UID:69ea3a9b581c6
DTSTAMP:20260423T152827Z
DTSTART:20230506
DTEND:20230507
LOCATION:
SUMMARY:Shekou International School (Shenzhen\,  Guangdong\,  China)
DESCRIPTION:Shekou International School (Shenzhen\,  Guangdong\,  China)\nh
 ttps://chasingchildhooddoc.com/events/shekou-international-school-shenzhen-
 guangdong-china/
URL:https://chasingchildhooddoc.com/events/shekou-international-school-shenzhen-guangdong-china/
END:VEVENT
END:VCALENDAR