BEGIN:VCALENDAR
VERSION:2.0
PRODID:-//eventon.com NONSGML v1.0//EN
CALSCALE:GREGORIAN
METHOD:PUBLISH
BEGIN:VEVENT
UID:69ea3ad0d0f25
DTSTAMP:20260423T152920Z
DTSTART:20230506
DTEND:20230507
LOCATION:
SUMMARY:First Presbyterian Church (Charlottesville\,  VA)
DESCRIPTION:First Presbyterian Church (Charlottesville\,  VA)\nhttps://chas
 ingchildhooddoc.com/events/first-presbyterian-church-charlottesville-va/
URL:https://chasingchildhooddoc.com/events/first-presbyterian-church-charlottesville-va/
END:VEVENT
END:VCALENDAR