BEGIN:VCALENDAR
VERSION:2.0
PRODID:-//eventon.com NONSGML v1.0//EN
CALSCALE:GREGORIAN
METHOD:PUBLISH
BEGIN:VEVENT
UID:69ea3a83c95c0
DTSTAMP:20260423T152803Z
DTSTART:20230506
DTEND:20230507
LOCATION:
SUMMARY:Bemidji State University (Bemidji\,  MN)
DESCRIPTION:Bemidji State University (Bemidji\,  MN)\nhttps://chasingchildh
 ooddoc.com/events/bemidji-state-university-bemidji-mn/
URL:https://chasingchildhooddoc.com/events/bemidji-state-university-bemidji-mn/
END:VEVENT
END:VCALENDAR