BEGIN:VCALENDAR
VERSION:2.0
PRODID:-//eventon.com NONSGML v1.0//EN
CALSCALE:GREGORIAN
METHOD:PUBLISH
BEGIN:VEVENT
UID:69ea3aa804071
DTSTAMP:20260423T152840Z
DTSTART:20230506
DTEND:20230507
LOCATION:
SUMMARY:139DocumentaryCenter (Tashkent\,  Uzbekistan)
DESCRIPTION:139DocumentaryCenter (Tashkent\,  Uzbekistan)\nhttps://chasingc
 hildhooddoc.com/events/139documentarycenter-tashkent-uzbekistan/
URL:https://chasingchildhooddoc.com/events/139documentarycenter-tashkent-uzbekistan/
END:VEVENT
END:VCALENDAR