BEGIN:VCALENDAR
VERSION:2.0
PRODID:-//eventon.com NONSGML v1.0//EN
CALSCALE:GREGORIAN
METHOD:PUBLISH
BEGIN:VEVENT
UID:69ea3aaac11c0
DTSTAMP:20260423T152842Z
DTSTART:20230507
DTEND:20230508
LOCATION:
SUMMARY:Saint John's Cathedral (Denver\,  CO)
DESCRIPTION:Saint John's Cathedral (Denver\,  CO)\nhttps://chasingchildhood
 doc.com/events/saint-johns-cathedral-denver-co/
URL:https://chasingchildhooddoc.com/events/saint-johns-cathedral-denver-co/
END:VEVENT
END:VCALENDAR