BEGIN:VCALENDAR
VERSION:2.0
PRODID:-//eventon.com NONSGML v1.0//EN
CALSCALE:GREGORIAN
METHOD:PUBLISH
BEGIN:VEVENT
UID:69ea3a2e3544b
DTSTAMP:20260423T152638Z
DTSTART:20230507
DTEND:20230508
LOCATION:
SUMMARY:Dixon & Associates Psychotherapy Services (Georgetown\,  Ontario)
DESCRIPTION:Dixon &#038; Associates Psychotherapy Services (Georgetown\,  O
 ntario)\nhttps://chasingchildhooddoc.com/events/dixon-associates-psychother
 apy-services-georgetown-ontario/
URL:https://chasingchildhooddoc.com/events/dixon-associates-psychotherapy-services-georgetown-ontario/
END:VEVENT
END:VCALENDAR