BEGIN:VCALENDAR
VERSION:2.0
PRODID:-//eventon.com NONSGML v1.0//EN
CALSCALE:GREGORIAN
METHOD:PUBLISH
BEGIN:VEVENT
UID:69ea3b064f242
DTSTAMP:20260423T153014Z
DTSTART:20230509
DTEND:20230510
LOCATION:
SUMMARY:Western Professional Development Center- Holyoke Community College (Holyoke\,  MA)
DESCRIPTION:Western Professional Development Center- Holyoke Community Coll
 ege (Holyoke\,  MA)\nhttps://chasingchildhooddoc.com/events/western-profess
 ional-development-center-holyoke-community-college-holyoke-ma/
URL:https://chasingchildhooddoc.com/events/western-professional-development-center-holyoke-community-college-holyoke-ma/
END:VEVENT
END:VCALENDAR