BEGIN:VCALENDAR
VERSION:2.0
PRODID:-//eventon.com NONSGML v1.0//EN
CALSCALE:GREGORIAN
METHOD:PUBLISH
BEGIN:VEVENT
UID:69ea3ad196836
DTSTAMP:20260423T152921Z
DTSTART:20230509
DTEND:20230510
LOCATION:
SUMMARY:Dartmouth (Hanover\,  NH)
DESCRIPTION:Dartmouth (Hanover\,  NH)\nhttps://chasingchildhooddoc.com/even
 ts/dartmouth-hanover-nh/
URL:https://chasingchildhooddoc.com/events/dartmouth-hanover-nh/
END:VEVENT
END:VCALENDAR