BEGIN:VCALENDAR
VERSION:2.0
PRODID:-//eventon.com NONSGML v1.0//EN
CALSCALE:GREGORIAN
METHOD:PUBLISH
BEGIN:VEVENT
UID:69ea3aa7a7f5e
DTSTAMP:20260423T152839Z
DTSTART:20230510
DTEND:20230511
LOCATION:
SUMMARY:SHED Children's Campus (Andover\,  MA)
DESCRIPTION:SHED Children's Campus (Andover\,  MA)\nhttps://chasingchildhoo
 ddoc.com/events/shed-childrens-campus-andover-ma/
URL:https://chasingchildhooddoc.com/events/shed-childrens-campus-andover-ma/
END:VEVENT
END:VCALENDAR