BEGIN:VCALENDAR
VERSION:2.0
PRODID:-//eventon.com NONSGML v1.0//EN
CALSCALE:GREGORIAN
METHOD:PUBLISH
BEGIN:VEVENT
UID:69ea3a53e8575
DTSTAMP:20260423T152715Z
DTSTART:20230510
DTEND:20230511
LOCATION:
SUMMARY:Mayors commission for children (Springfield\,  MO)
DESCRIPTION:Mayors commission for children (Springfield\,  MO)\nhttps://cha
 singchildhooddoc.com/events/mayors-commission-for-children-springfield-mo/
URL:https://chasingchildhooddoc.com/events/mayors-commission-for-children-springfield-mo/
END:VEVENT
END:VCALENDAR