BEGIN:VCALENDAR
VERSION:2.0
PRODID:-//eventon.com NONSGML v1.0//EN
CALSCALE:GREGORIAN
METHOD:PUBLISH
BEGIN:VEVENT
UID:69ea3afc72542
DTSTAMP:20260423T153004Z
DTSTART:20230510
DTEND:20230511
LOCATION:
SUMMARY:Alexandria City High School (Alexandria\,  VA)
DESCRIPTION:Alexandria City High School (Alexandria\,  VA)\nhttps://chasing
 childhooddoc.com/events/alexandria-city-high-school-alexandria-va/
URL:https://chasingchildhooddoc.com/events/alexandria-city-high-school-alexandria-va/
END:VEVENT
END:VCALENDAR