BEGIN:VCALENDAR
VERSION:2.0
PRODID:-//eventon.com NONSGML v1.0//EN
CALSCALE:GREGORIAN
METHOD:PUBLISH
BEGIN:VEVENT
UID:69ea3af134842
DTSTAMP:20260423T152953Z
DTSTART:20230512
DTEND:20230513
LOCATION:
SUMMARY:Antwerp Elementary School (Antwerp\,  OH)
DESCRIPTION:Antwerp Elementary School (Antwerp\,  OH)\nhttps://chasingchild
 hooddoc.com/events/antwerp-elementary-school-antwerp-oh/
URL:https://chasingchildhooddoc.com/events/antwerp-elementary-school-antwerp-oh/
END:VEVENT
END:VCALENDAR