BEGIN:VCALENDAR
VERSION:2.0
PRODID:-//eventon.com NONSGML v1.0//EN
CALSCALE:GREGORIAN
METHOD:PUBLISH
BEGIN:VEVENT
UID:69ea39d9d1e53
DTSTAMP:20260423T152513Z
DTSTART:20230515
DTEND:20230516
LOCATION:
SUMMARY:Bud Werner Memorial Library (Steamboat Springs\,  CO)
DESCRIPTION:Bud Werner Memorial Library (Steamboat Springs\,  CO)\nhttps://
 chasingchildhooddoc.com/events/bud-werner-memorial-library-steamboat-spring
 s-co/
URL:https://chasingchildhooddoc.com/events/bud-werner-memorial-library-steamboat-springs-co/
END:VEVENT
END:VCALENDAR