BEGIN:VCALENDAR
VERSION:2.0
PRODID:-//eventon.com NONSGML v1.0//EN
CALSCALE:GREGORIAN
METHOD:PUBLISH
BEGIN:VEVENT
UID:69ea39da1ff80
DTSTAMP:20260423T152514Z
DTSTART:20230515
DTEND:20230516
LOCATION:
SUMMARY:Braeburn school (Nairobi\,  Nairobi)
DESCRIPTION:Braeburn school (Nairobi\,  Nairobi)\nhttps://chasingchildhoodd
 oc.com/events/braeburn-school-nairobi-nairobi-2/
URL:https://chasingchildhooddoc.com/events/braeburn-school-nairobi-nairobi-2/
END:VEVENT
END:VCALENDAR