BEGIN:VCALENDAR
VERSION:2.0
PRODID:-//eventon.com NONSGML v1.0//EN
CALSCALE:GREGORIAN
METHOD:PUBLISH
BEGIN:VEVENT
UID:69ea39e576d3d
DTSTAMP:20260423T152525Z
DTSTART:20230518
DTEND:20230519
LOCATION:
SUMMARY:Liverpool Learning Partnership (Liverpool\,  Merseyside)
DESCRIPTION:Liverpool Learning Partnership (Liverpool\,  Merseyside)\nhttps
 ://chasingchildhooddoc.com/events/liverpool-learning-partnership-liverpool-
 merseyside/
URL:https://chasingchildhooddoc.com/events/liverpool-learning-partnership-liverpool-merseyside/
END:VEVENT
END:VCALENDAR