BEGIN:VCALENDAR
VERSION:2.0
PRODID:-//eventon.com NONSGML v1.0//EN
CALSCALE:GREGORIAN
METHOD:PUBLISH
BEGIN:VEVENT
UID:69ea39cb2d86e
DTSTAMP:20260423T152459Z
DTSTART:20230519
DTEND:20230520
LOCATION:
SUMMARY:Kenai Peninsula Borough School District (Seward\,  AK)
DESCRIPTION:Kenai Peninsula Borough School District (Seward\,  AK)\nhttps:/
 /chasingchildhooddoc.com/events/kenai-peninsula-borough-school-district-sew
 ard-ak/
URL:https://chasingchildhooddoc.com/events/kenai-peninsula-borough-school-district-seward-ak/
END:VEVENT
END:VCALENDAR