BEGIN:VCALENDAR
VERSION:2.0
PRODID:-//eventon.com NONSGML v1.0//EN
CALSCALE:GREGORIAN
METHOD:PUBLISH
BEGIN:VEVENT
UID:69ea39d91e333
DTSTAMP:20260423T152513Z
DTSTART:20230523
DTEND:20230524
LOCATION:
SUMMARY:SustainFloyd (Floyd\,  VA)
DESCRIPTION:SustainFloyd (Floyd\,  VA)\nhttps://chasingchildhooddoc.com/eve
 nts/sustainfloyd-floyd-va/
URL:https://chasingchildhooddoc.com/events/sustainfloyd-floyd-va/
END:VEVENT
END:VCALENDAR