BEGIN:VCALENDAR
VERSION:2.0
PRODID:-//eventon.com NONSGML v1.0//EN
CALSCALE:GREGORIAN
METHOD:PUBLISH
BEGIN:VEVENT
UID:69ea3a113b0a8
DTSTAMP:20260423T152609Z
DTSTART:20230527
DTEND:20230528
LOCATION:
SUMMARY:YCDSB (THORNHILL\,  ONTARIO)
DESCRIPTION:YCDSB (THORNHILL\,  ONTARIO)\nhttps://chasingchildhooddoc.com/e
 vents/ycdsb-thornhill-ontario/
URL:https://chasingchildhooddoc.com/events/ycdsb-thornhill-ontario/
END:VEVENT
END:VCALENDAR