BEGIN:VCALENDAR
VERSION:2.0
PRODID:-//eventon.com NONSGML v1.0//EN
CALSCALE:GREGORIAN
METHOD:PUBLISH
BEGIN:VEVENT
UID:69ea39d60a9ca
DTSTAMP:20260423T152510Z
DTSTART:20230527
DTEND:20230528
LOCATION:
SUMMARY:Smith Street Maternelle/Arts et Lettres (Brooklyn\,  NY)
DESCRIPTION:Smith Street Maternelle/Arts et Lettres (Brooklyn\,  NY)\nhttps
 ://chasingchildhooddoc.com/events/smith-street-maternelle-arts-et-lettres-b
 rooklyn-ny/
URL:https://chasingchildhooddoc.com/events/smith-street-maternelle-arts-et-lettres-brooklyn-ny/
END:VEVENT
END:VCALENDAR