BEGIN:VCALENDAR
VERSION:2.0
PRODID:-//eventon.com NONSGML v1.0//EN
CALSCALE:GREGORIAN
METHOD:PUBLISH
BEGIN:VEVENT
UID:69ea3a2a1b93d
DTSTAMP:20260423T152634Z
DTSTART:20230528
DTEND:20230529
LOCATION:
SUMMARY:Cirrus House Inc. (Scottsbluff\,  NE)
DESCRIPTION:Cirrus House Inc. (Scottsbluff\,  NE)\nhttps://chasingchildhood
 doc.com/events/cirrus-house-inc-scottsbluff-ne/
URL:https://chasingchildhooddoc.com/events/cirrus-house-inc-scottsbluff-ne/
END:VEVENT
END:VCALENDAR