BEGIN:VCALENDAR
VERSION:2.0
PRODID:-//eventon.com NONSGML v1.0//EN
CALSCALE:GREGORIAN
METHOD:PUBLISH
BEGIN:VEVENT
UID:69ea39ce204d6
DTSTAMP:20260423T152502Z
DTSTART:20230529
DTEND:20230530
LOCATION:
SUMMARY:Maryland Association of Elementary School Principals (Westminster\,  MD)
DESCRIPTION:Maryland Association of Elementary School Principals (Westminst
 er\,  MD)\nhttps://chasingchildhooddoc.com/events/maryland-association-of-e
 lementary-school-principals-westminster-md/
URL:https://chasingchildhooddoc.com/events/maryland-association-of-elementary-school-principals-westminster-md/
END:VEVENT
END:VCALENDAR