BEGIN:VCALENDAR
VERSION:2.0
PRODID:-//eventon.com NONSGML v1.0//EN
CALSCALE:GREGORIAN
METHOD:PUBLISH
BEGIN:VEVENT
UID:69ea39d8b901f
DTSTAMP:20260423T152512Z
DTSTART:20230601
DTEND:20230602
LOCATION:
SUMMARY:Teatro Metaphora - Associação de Amigos das Artes (Câmara de Lobos\,  Portugal)
DESCRIPTION:Teatro Metaphora - Associação de Amigos das Artes (Câmara de
  Lobos\,  Portugal)\nhttps://chasingchildhooddoc.com/events/teatro-metaphor
 a-associacao-de-amigos-das-artes-camara-de-lobos-portugal/
URL:https://chasingchildhooddoc.com/events/teatro-metaphora-associacao-de-amigos-das-artes-camara-de-lobos-portugal/
END:VEVENT
END:VCALENDAR