BEGIN:VCALENDAR
VERSION:2.0
PRODID:-//eventon.com NONSGML v1.0//EN
CALSCALE:GREGORIAN
METHOD:PUBLISH
BEGIN:VEVENT
UID:69ea39d837f25
DTSTAMP:20260423T152512Z
DTSTART:20230601
DTEND:20230602
LOCATION:
SUMMARY:acton academy morristown (Morristown\,  NJ)
DESCRIPTION:acton academy morristown (Morristown\,  NJ)\nhttps://chasingchi
 ldhooddoc.com/events/acton-academy-morristown-morristown-nj/
URL:https://chasingchildhooddoc.com/events/acton-academy-morristown-morristown-nj/
END:VEVENT
END:VCALENDAR