BEGIN:VCALENDAR
VERSION:2.0
PRODID:-//eventon.com NONSGML v1.0//EN
CALSCALE:GREGORIAN
METHOD:PUBLISH
BEGIN:VEVENT
UID:69ea3ad116100
DTSTAMP:20260423T152921Z
DTSTART:20230608
DTEND:20230609
LOCATION:
SUMMARY:Glendale Community College (Glendale\,  CA)
DESCRIPTION:Glendale Community College (Glendale\,  CA)\nhttps://chasingchi
 ldhooddoc.com/events/glendale-community-college-glendale-ca-2/
URL:https://chasingchildhooddoc.com/events/glendale-community-college-glendale-ca-2/
END:VEVENT
END:VCALENDAR