BEGIN:VCALENDAR
VERSION:2.0
PRODID:-//eventon.com NONSGML v1.0//EN
CALSCALE:GREGORIAN
METHOD:PUBLISH
BEGIN:VEVENT
UID:69ea39cba915b
DTSTAMP:20260423T152459Z
DTSTART:20230612
DTEND:20230613
LOCATION:
SUMMARY:Princeton Public Library (Princeton\,  NJ)
DESCRIPTION:Princeton Public Library (Princeton\,  NJ)\nhttps://chasingchil
 dhooddoc.com/events/princeton-public-library-princeton-nj/
URL:https://chasingchildhooddoc.com/events/princeton-public-library-princeton-nj/
END:VEVENT
END:VCALENDAR