BEGIN:VCALENDAR
VERSION:2.0
PRODID:-//eventon.com NONSGML v1.0//EN
CALSCALE:GREGORIAN
METHOD:PUBLISH
BEGIN:VEVENT
UID:69ea3aaa4b7ac
DTSTAMP:20260423T152842Z
DTSTART:20230620
DTEND:20230621
LOCATION:
SUMMARY:Community Partnership of the Ozarks (Springfield\,  MO)
DESCRIPTION:Community Partnership of the Ozarks (Springfield\,  MO)\nhttps:
 //chasingchildhooddoc.com/events/community-partnership-of-the-ozarks-spring
 field-mo/
URL:https://chasingchildhooddoc.com/events/community-partnership-of-the-ozarks-springfield-mo/
END:VEVENT
END:VCALENDAR