BEGIN:VCALENDAR
VERSION:2.0
PRODID:-//eventon.com NONSGML v1.0//EN
CALSCALE:GREGORIAN
METHOD:PUBLISH
BEGIN:VEVENT
UID:69ea39e324a63
DTSTAMP:20260423T152523Z
DTSTART:20230807
DTEND:20230808
LOCATION:
SUMMARY:Children outdoors (Tartu\,  Tartumaa)
DESCRIPTION:Children outdoors (Tartu\,  Tartumaa)\nhttps://chasingchildhood
 doc.com/events/children-outdoors-tartu-tartumaa/
URL:https://chasingchildhooddoc.com/events/children-outdoors-tartu-tartumaa/
END:VEVENT
END:VCALENDAR