BEGIN:VCALENDAR
VERSION:2.0
PRODID:-//eventon.com NONSGML v1.0//EN
CALSCALE:GREGORIAN
METHOD:PUBLISH
BEGIN:VEVENT
UID:69ea3b467ee79
DTSTAMP:20260423T153118Z
DTSTART:20230912
DTEND:20230913
LOCATION:
SUMMARY:Seaford Environmental Alliance (Seaford\,  DE)
DESCRIPTION:Seaford Environmental Alliance (Seaford\,  DE)\nhttps://chasing
 childhooddoc.com/events/seaford-environmental-alliance-seaford-de/
URL:https://chasingchildhooddoc.com/events/seaford-environmental-alliance-seaford-de/
END:VEVENT
END:VCALENDAR