BEGIN:VCALENDAR
VERSION:2.0
PRODID:-//eventon.com NONSGML v1.0//EN
CALSCALE:GREGORIAN
METHOD:PUBLISH
BEGIN:VEVENT
UID:69ea3a9c2d426
DTSTAMP:20260423T152828Z
DTSTART:20230920
DTEND:20230921
LOCATION:
SUMMARY:Temple Emanu-El Nursery School (New York City\,  NY)
DESCRIPTION:Temple Emanu-El Nursery School (New York City\,  NY)\nhttps://c
 hasingchildhooddoc.com/events/temple-emanu-el-nursery-school-new-york-city-
 ny/
URL:https://chasingchildhooddoc.com/events/temple-emanu-el-nursery-school-new-york-city-ny/
END:VEVENT
END:VCALENDAR