BEGIN:VCALENDAR
VERSION:2.0
PRODID:-//eventon.com NONSGML v1.0//EN
CALSCALE:GREGORIAN
METHOD:PUBLISH
BEGIN:VEVENT
UID:69ea3a5281f4d
DTSTAMP:20260423T152714Z
DTSTART:20230921
DTEND:20230922
LOCATION:
SUMMARY:NPE School (Chicago\,  IL)
DESCRIPTION:NPE School (Chicago\,  IL)\nhttps://chasingchildhooddoc.com/eve
 nts/npe-school-chicago-il/
URL:https://chasingchildhooddoc.com/events/npe-school-chicago-il/
END:VEVENT
END:VCALENDAR