BEGIN:VCALENDAR
VERSION:2.0
PRODID:-//eventon.com NONSGML v1.0//EN
CALSCALE:GREGORIAN
METHOD:PUBLISH
BEGIN:VEVENT
UID:69ea39d7eed15
DTSTAMP:20260423T152511Z
DTSTART:20230927
DTEND:20230928
LOCATION:
SUMMARY:Marina Branch\,  San Francisco Public Library (San Francisco\,  CA)
DESCRIPTION:Marina Branch\,  San Francisco Public Library (San Francisco\, 
  CA)\nhttps://chasingchildhooddoc.com/events/marina-branch-san-francisco-pu
 blic-library-san-francisco-ca/
URL:https://chasingchildhooddoc.com/events/marina-branch-san-francisco-public-library-san-francisco-ca/
END:VEVENT
END:VCALENDAR