BEGIN:VCALENDAR
VERSION:2.0
PRODID:-//eventon.com NONSGML v1.0//EN
CALSCALE:GREGORIAN
METHOD:PUBLISH
BEGIN:VEVENT
UID:69ea3a2c698ea
DTSTAMP:20260423T152636Z
DTSTART:20230928
DTEND:20230929
LOCATION:
SUMMARY:Silver Pines PS (Richmond Hill\,  ON)
DESCRIPTION:Silver Pines PS (Richmond Hill\,  ON)\nhttps://chasingchildhood
 doc.com/events/silver-pines-ps-richmond-hill-on/
URL:https://chasingchildhooddoc.com/events/silver-pines-ps-richmond-hill-on/
END:VEVENT
END:VCALENDAR