BEGIN:VCALENDAR
VERSION:2.0
PRODID:-//eventon.com NONSGML v1.0//EN
CALSCALE:GREGORIAN
METHOD:PUBLISH
BEGIN:VEVENT
UID:69ea3a546a654
DTSTAMP:20260423T152716Z
DTSTART:20231002
DTEND:20231003
LOCATION:
SUMMARY:Facebook group. Science of Reading-What I Should Have Learned in College (Clnton\,  TN)
DESCRIPTION:Facebook group. Science of Reading-What I Should Have Learned i
 n College (Clnton\,  TN)\nhttps://chasingchildhooddoc.com/events/facebook-g
 roup-science-of-reading-what-i-should-have-learned-in-college-clnton-tn/
URL:https://chasingchildhooddoc.com/events/facebook-group-science-of-reading-what-i-should-have-learned-in-college-clnton-tn/
END:VEVENT
END:VCALENDAR