BEGIN:VCALENDAR
VERSION:2.0
PRODID:-//eventon.com NONSGML v1.0//EN
CALSCALE:GREGORIAN
METHOD:PUBLISH
BEGIN:VEVENT
UID:69ea3a2bb1eb3
DTSTAMP:20260423T152635Z
DTSTART:20231013
DTEND:20231014
LOCATION:
SUMMARY:Central Oregon Community College (Bend\,  OR)
DESCRIPTION:Central Oregon Community College (Bend\,  OR)\nhttps://chasingc
 hildhooddoc.com/events/central-oregon-community-college-bend-or/
URL:https://chasingchildhooddoc.com/events/central-oregon-community-college-bend-or/
END:VEVENT
END:VCALENDAR