BEGIN:VCALENDAR
VERSION:2.0
PRODID:-//eventon.com NONSGML v1.0//EN
CALSCALE:GREGORIAN
METHOD:PUBLISH
BEGIN:VEVENT
UID:69ea3b433c0cd
DTSTAMP:20260423T153115Z
DTSTART:20231019
DTEND:20231020
LOCATION:
SUMMARY:Rutland Senior Secondary School (Kelowna\,  BC)
DESCRIPTION:Rutland Senior Secondary School (Kelowna\,  BC)\nhttps://chasin
 gchildhooddoc.com/events/rutland-senior-secondary-school-kelowna-bc/
URL:https://chasingchildhooddoc.com/events/rutland-senior-secondary-school-kelowna-bc/
END:VEVENT
END:VCALENDAR