BEGIN:VCALENDAR
VERSION:2.0
PRODID:-//eventon.com NONSGML v1.0//EN
CALSCALE:GREGORIAN
METHOD:PUBLISH
BEGIN:VEVENT
UID:69ea3a9b991a7
DTSTAMP:20260423T152827Z
DTSTART:20231020
DTEND:20231021
LOCATION:
SUMMARY:CASA of Contra Costa County (Concord\,  CA)
DESCRIPTION:CASA of Contra Costa County (Concord\,  CA)\nhttps://chasingchi
 ldhooddoc.com/events/casa-of-contra-costa-county-concord-ca/
URL:https://chasingchildhooddoc.com/events/casa-of-contra-costa-county-concord-ca/
END:VEVENT
END:VCALENDAR