BEGIN:VCALENDAR
VERSION:2.0
PRODID:-//eventon.com NONSGML v1.0//EN
CALSCALE:GREGORIAN
METHOD:PUBLISH
BEGIN:VEVENT
UID:69ea3a107e58f
DTSTAMP:20260423T152608Z
DTSTART:20231021
DTEND:20231022
LOCATION:
SUMMARY:Cape Cod Community College (W. Barnstable\,  MA)
DESCRIPTION:Cape Cod Community College (W. Barnstable\,  MA)\nhttps://chasi
 ngchildhooddoc.com/events/cape-cod-community-college-w-barnstable-ma/
URL:https://chasingchildhooddoc.com/events/cape-cod-community-college-w-barnstable-ma/
END:VEVENT
END:VCALENDAR