BEGIN:VCALENDAR
VERSION:2.0
PRODID:-//eventon.com NONSGML v1.0//EN
CALSCALE:GREGORIAN
METHOD:PUBLISH
BEGIN:VEVENT
UID:69ea3ad30a995
DTSTAMP:20260423T152923Z
DTSTART:20231023
DTEND:20231024
LOCATION:
SUMMARY:Calgary French & International School (Calgary\,  Alberta\,  Canada)
DESCRIPTION:Calgary French &#038; International School (Calgary\,  Alberta\
 ,  Canada)\nhttps://chasingchildhooddoc.com/events/calgary-french-internati
 onal-school-calgary-alberta-canada/
URL:https://chasingchildhooddoc.com/events/calgary-french-international-school-calgary-alberta-canada/
END:VEVENT
END:VCALENDAR