BEGIN:VCALENDAR
VERSION:2.0
PRODID:-//eventon.com NONSGML v1.0//EN
CALSCALE:GREGORIAN
METHOD:PUBLISH
BEGIN:VEVENT
UID:69ea3b0426dd8
DTSTAMP:20260423T153012Z
DTSTART:20231111
DTEND:20231112
LOCATION:
SUMMARY:Northshore School District (Regina\,  Saskatchewan)
DESCRIPTION:Northshore School District (Regina\,  Saskatchewan)\nhttps://ch
 asingchildhooddoc.com/events/northshore-school-district-regina-saskatchewan
 /
URL:https://chasingchildhooddoc.com/events/northshore-school-district-regina-saskatchewan/
END:VEVENT
END:VCALENDAR