BEGIN:VCALENDAR
VERSION:2.0
PRODID:-//eventon.com NONSGML v1.0//EN
CALSCALE:GREGORIAN
METHOD:PUBLISH
BEGIN:VEVENT
UID:69ea3acf5d374
DTSTAMP:20260423T152919Z
DTSTART:20231114
DTEND:20231115
LOCATION:
SUMMARY:Waimea Canyon Middle School (Waimea\,  HI)
DESCRIPTION:Waimea Canyon Middle School (Waimea\,  HI)\nhttps://chasingchil
 dhooddoc.com/events/waimea-canyon-middle-school-waimea-hi/
URL:https://chasingchildhooddoc.com/events/waimea-canyon-middle-school-waimea-hi/
END:VEVENT
END:VCALENDAR