BEGIN:VCALENDAR
VERSION:2.0
PRODID:-//eventon.com NONSGML v1.0//EN
CALSCALE:GREGORIAN
METHOD:PUBLISH
BEGIN:VEVENT
UID:69ea3ad39951a
DTSTAMP:20260423T152923Z
DTSTART:20231115
DTEND:20231116
LOCATION:
SUMMARY:Boston University (Boston\,  MA)
DESCRIPTION:Boston University (Boston\,  MA)\nhttps://chasingchildhooddoc.c
 om/events/boston-university-boston-ma/
URL:https://chasingchildhooddoc.com/events/boston-university-boston-ma/
END:VEVENT
END:VCALENDAR