BEGIN:VCALENDAR
VERSION:2.0
PRODID:-//eventon.com NONSGML v1.0//EN
CALSCALE:GREGORIAN
METHOD:PUBLISH
BEGIN:VEVENT
UID:69ea3b01030b6
DTSTAMP:20260423T153009Z
DTSTART:20231124
DTEND:20231125
LOCATION:
SUMMARY:Heavenly Village Romania (Deva\,  Hunedoara)
DESCRIPTION:Heavenly Village Romania (Deva\,  Hunedoara)\nhttps://chasingch
 ildhooddoc.com/events/heavenly-village-romania-deva-hunedoara/
URL:https://chasingchildhooddoc.com/events/heavenly-village-romania-deva-hunedoara/
END:VEVENT
END:VCALENDAR