BEGIN:VCALENDAR
VERSION:2.0
PRODID:-//eventon.com NONSGML v1.0//EN
CALSCALE:GREGORIAN
METHOD:PUBLISH
BEGIN:VEVENT
UID:69ea3aa99af62
DTSTAMP:20260423T152841Z
DTSTART:20231127
DTEND:20231128
LOCATION:
SUMMARY:Rider University (Lawrenceville\,  NJ)
DESCRIPTION:Rider University (Lawrenceville\,  NJ)\nhttps://chasingchildhoo
 ddoc.com/events/rider-university-lawrenceville-nj/
URL:https://chasingchildhooddoc.com/events/rider-university-lawrenceville-nj/
END:VEVENT
END:VCALENDAR